BEGIN:VCALENDAR
VERSION:2.0
PRODID:-//Sami Seif - Composer - ECPv6.15.20//NONSGML v1.0//EN
CALSCALE:GREGORIAN
METHOD:PUBLISH
X-WR-CALNAME:Sami Seif - Composer
X-ORIGINAL-URL:https://www.samiseif.com
X-WR-CALDESC:Events for Sami Seif - Composer
REFRESH-INTERVAL;VALUE=DURATION:PT1H
X-Robots-Tag:noindex
X-PUBLISHED-TTL:PT1H
BEGIN:VTIMEZONE
TZID:America/Chicago
BEGIN:DAYLIGHT
TZOFFSETFROM:-0600
TZOFFSETTO:-0500
TZNAME:CDT
DTSTART:20220313T080000
END:DAYLIGHT
BEGIN:STANDARD
TZOFFSETFROM:-0500
TZOFFSETTO:-0600
TZNAME:CST
DTSTART:20221106T070000
END:STANDARD
BEGIN:DAYLIGHT
TZOFFSETFROM:-0600
TZOFFSETTO:-0500
TZNAME:CDT
DTSTART:20230312T080000
END:DAYLIGHT
BEGIN:STANDARD
TZOFFSETFROM:-0500
TZOFFSETTO:-0600
TZNAME:CST
DTSTART:20231105T070000
END:STANDARD
BEGIN:DAYLIGHT
TZOFFSETFROM:-0600
TZOFFSETTO:-0500
TZNAME:CDT
DTSTART:20240310T080000
END:DAYLIGHT
BEGIN:STANDARD
TZOFFSETFROM:-0500
TZOFFSETTO:-0600
TZNAME:CST
DTSTART:20241103T070000
END:STANDARD
END:VTIMEZONE
BEGIN:VTIMEZONE
TZID:America/New_York
BEGIN:DAYLIGHT
TZOFFSETFROM:-0500
TZOFFSETTO:-0400
TZNAME:EDT
DTSTART:20220313T070000
END:DAYLIGHT
BEGIN:STANDARD
TZOFFSETFROM:-0400
TZOFFSETTO:-0500
TZNAME:EST
DTSTART:20221106T060000
END:STANDARD
BEGIN:DAYLIGHT
TZOFFSETFROM:-0500
TZOFFSETTO:-0400
TZNAME:EDT
DTSTART:20230312T070000
END:DAYLIGHT
BEGIN:STANDARD
TZOFFSETFROM:-0400
TZOFFSETTO:-0500
TZNAME:EST
DTSTART:20231105T060000
END:STANDARD
BEGIN:DAYLIGHT
TZOFFSETFROM:-0500
TZOFFSETTO:-0400
TZNAME:EDT
DTSTART:20240310T070000
END:DAYLIGHT
BEGIN:STANDARD
TZOFFSETFROM:-0400
TZOFFSETTO:-0500
TZNAME:EST
DTSTART:20241103T060000
END:STANDARD
END:VTIMEZONE
BEGIN:VEVENT
DTSTART;TZID=America/Chicago:20230226T160000
DTEND;TZID=America/Chicago:20230226T180000
DTSTAMP:20260419T162949
CREATED:20230219T104144Z
LAST-MODIFIED:20230219T104144Z
UID:16881-1677427200-1677434400@www.samiseif.com
SUMMARY:New Music Mosaic - Miniatures from Phoenicia
DESCRIPTION:New Music Mosaic presents new and recently composed works\, featuring Noah Livingston performing Miniatures from Phoenicia for Flute Alone.
URL:https://www.samiseif.com/event/new-music-mosaic-miniatures-from-phoenicia/
LOCATION:Rose Bowl Tavern\, 106 N Race St\, Urbana\, IL\, 61801\, United States
ATTACH;FMTTYPE=image/png:https://www.samiseif.com/wp-content/uploads/2023/02/New-Music-Mosaic.png
END:VEVENT
BEGIN:VEVENT
DTSTART;TZID=America/New_York:20230225T190000
DTEND;TZID=America/New_York:20230225T210000
DTSTAMP:20260419T162949
CREATED:20230218T060012Z
LAST-MODIFIED:20230218T060012Z
UID:16873-1677351600-1677358800@www.samiseif.com
SUMMARY:String Quartet Smack Down VIII
DESCRIPTION:The Golden Hornet String Quartet  plays Reflections\, excerpted from Orientalism (String Quartet) at their String Quartet Smack Down VIII event. \nGolden Hornet’s String Quartet Smackdown is a bracketed\, NCAA basketball style tournament competition which brings original four-minute string quartet compositions head-to-head in front of a live\, participatory audience. It’s like NCAA March Madness for the ears! \nEvery Fall\, composers from around the globe are invited to submit through an open\, no-cost entry process. Following submission\, a diverse panel of judges selects sixteen compositions to be performed live at the String Quartet Smackdown\, which takes place in February at the Alamo Drafthouse in Austin\, TX. \nA professional string quartet performs the pieces LIVE* for the in-person and/or virtual audience. This performance is broken into four rounds: \nRound 1 (Round of 16): One minute of all sixteen pieces\nRound 2 (Quarterfinals): Two minutes of eight pieces\nRound 3 (Semi-finals): Three minutes of four pieces\nRound 4 (Finals) : Full four minutes of two pieces \nThe audience uses their cell phones or a mobile app to vote\, and their responses appear live on screen. The winner of each bracket moves on in the tournament! (*In 2021\, the pieces will be pre-recorded prior to the livestream to minimize technical disaster.) \nIn a riotous – and usually very close – finish\, the audience determines the String Quartet Smackdown champion!
URL:https://www.samiseif.com/event/string-quartet-smack-down-viii/
LOCATION:Alamo Drafthouse South Lamar\, 1120 S Lamar Blvd\, Austin\, TX\, 78704\, United States
ATTACH;FMTTYPE=image/jpeg:https://www.samiseif.com/wp-content/uploads/2023/02/golden-hornet-string-quartet-smackdown.jpg
END:VEVENT
BEGIN:VEVENT
DTSTART;TZID=America/New_York:20230225T150000
DTEND;TZID=America/New_York:20230225T153000
DTSTAMP:20260419T162949
CREATED:20230218T053847Z
LAST-MODIFIED:20230224T040652Z
UID:16863-1677337200-1677339000@www.samiseif.com
SUMMARY:International Conference for Saxophone Pedagogy and Performance
DESCRIPTION:Andrew Hosler performs Meanings | معاني  for Saxophone Alone at the International Conference for Saxophone Pedagogy and Performance.
URL:https://www.samiseif.com/event/international-conference-for-saxophone-pedagogy-and-performance/
LOCATION:Online only; register at: https://www.saxophonepedagogyandperformance.com/p/registration.html
CATEGORIES:conference
ATTACH;FMTTYPE=image/jpeg:https://www.samiseif.com/wp-content/uploads/2023/02/International-Conference-for-Saxophone-Pedagogy-and-Performance.jpg
ORGANIZER;CN="University of Florida School of Music Gainesville%2C Florida":MAILTO:jhelton@ufl.edu
END:VEVENT
END:VCALENDAR