BEGIN:VCALENDAR
VERSION:2.0
PRODID:-//Sami Seif - Composer - ECPv6.15.20//NONSGML v1.0//EN
CALSCALE:GREGORIAN
METHOD:PUBLISH
X-ORIGINAL-URL:https://www.samiseif.com
X-WR-CALDESC:Events for Sami Seif - Composer
REFRESH-INTERVAL;VALUE=DURATION:PT1H
X-Robots-Tag:noindex
X-PUBLISHED-TTL:PT1H
BEGIN:VTIMEZONE
TZID:America/Halifax
BEGIN:DAYLIGHT
TZOFFSETFROM:-0400
TZOFFSETTO:-0300
TZNAME:ADT
DTSTART:20250309T060000
END:DAYLIGHT
BEGIN:STANDARD
TZOFFSETFROM:-0300
TZOFFSETTO:-0400
TZNAME:AST
DTSTART:20251102T050000
END:STANDARD
BEGIN:DAYLIGHT
TZOFFSETFROM:-0400
TZOFFSETTO:-0300
TZNAME:ADT
DTSTART:20260308T060000
END:DAYLIGHT
BEGIN:STANDARD
TZOFFSETFROM:-0300
TZOFFSETTO:-0400
TZNAME:AST
DTSTART:20261101T050000
END:STANDARD
BEGIN:DAYLIGHT
TZOFFSETFROM:-0400
TZOFFSETTO:-0300
TZNAME:ADT
DTSTART:20270314T060000
END:DAYLIGHT
BEGIN:STANDARD
TZOFFSETFROM:-0300
TZOFFSETTO:-0400
TZNAME:AST
DTSTART:20271107T050000
END:STANDARD
END:VTIMEZONE
BEGIN:VEVENT
DTSTART;TZID=America/Halifax:20260304T080000
DTEND;TZID=America/Halifax:20260304T170000
DTSTAMP:20260419T164952
CREATED:20260111T200425Z
LAST-MODIFIED:20260111T204822Z
UID:17684-1772611200-1772643600@www.samiseif.com
SUMMARY:Electronic Nights No. 7 (Texas Tech University)
DESCRIPTION:Premiere of Can a Canaanite put a qanun in a canon? for four audio channels
URL:https://www.samiseif.com/event/electronic-nights-no-7-texas-tech-university/
ATTACH;FMTTYPE=image/png:https://www.samiseif.com/wp-content/uploads/2026/01/Texas_Tech_Athletics_logo.svg_.png
END:VEVENT
BEGIN:VEVENT
DTSTART;TZID=America/Halifax:20260315T140000
DTEND;TZID=America/Halifax:20260315T160000
DTSTAMP:20260419T164952
CREATED:20260307T200914Z
LAST-MODIFIED:20260307T201626Z
UID:17748-1773583200-1773590400@www.samiseif.com
SUMMARY:International ElectroAcoustic Music Festival
DESCRIPTION:Can a Canaanite put a qanun in a canon? will be played at the International ElectroAcoustic Music Festival (stereo version) at Topfer Recital Hall in the Tow Center for the Performing Arts. 
URL:https://www.samiseif.com/event/international-electroacoustic-music-festival/
LOCATION:Topfer Recital Hall\, 2920 Campus Rd\, (Brooklyn) New York\, NY\, 11210\, United States
ATTACH;FMTTYPE=image/png:https://www.samiseif.com/wp-content/uploads/2026/03/Brooklyn_College_Logo.svg_-scaled.png
END:VEVENT
BEGIN:VEVENT
DTSTART;VALUE=DATE:20260322
DTEND;VALUE=DATE:20260323
DTSTAMP:20260419T164952
CREATED:20260221T154844Z
LAST-MODIFIED:20260221T154916Z
UID:17725-1774137600-1774223999@www.samiseif.com
SUMMARY:NY Flute Fair Workshop
DESCRIPTION:Sami Seif and Samantha White will lead a workshop and performance of Miniatures from Phoenicia
URL:https://www.samiseif.com/event/ny-flute-fair-workshop/
LOCATION:Allen-Stevenson School\, 132 East 78th St\, New York\, NY\, 10075\, United States
ATTACH;FMTTYPE=image/jpeg:https://www.samiseif.com/wp-content/uploads/2024/01/New-York-Flute-Club.jpg
END:VEVENT
END:VCALENDAR